BEGIN:VCALENDAR
VERSION:2.0
PRODID:SchoolNow
CALSCALE:GREGORIAN
BEGIN:VEVENT
UID:f9eec274-7b5a-11ef-9cbb-0affd5f58377
DTSTAMP:20240925T162654Z
SUMMARY:Early Release - Half Day - Professional Development - Dismissal at 
 12:30 PM
URL;VALUE=URI:https://www.norwood.k12.ma.us/cms/calendar/6688999/early-rele
 ase-half-day-professional-development-dismissal-at-12-30-pm
DTSTART:20250327T124500Z
DTEND:20250327T163000Z
END:VEVENT
END:VCALENDAR
