BEGIN:VCALENDAR
VERSION:2.0
PRODID:SchoolNow
CALSCALE:GREGORIAN
BEGIN:VEVENT
UID:1f8edc44-7b5b-11ef-b6d4-0a58a9feac02
DTSTAMP:20240925T162757Z
SUMMARY:Good Friday - No School - Holiday
URL;VALUE=URI:https://www.norwood.k12.ma.us/cms/calendar/6689000/good-frida
 y-no-school-holiday
DTSTART:20250418T124500Z
DTEND:20250418T192000Z
END:VEVENT
END:VCALENDAR
