BEGIN:VCALENDAR
VERSION:2.0
PRODID:SchoolNow
CALSCALE:GREGORIAN
BEGIN:VEVENT
UID:961f4f06-7b5b-11ef-9ed3-0afff6414947
DTSTAMP:20240925T163116Z
SUMMARY:No School - Spring Vacation
URL;VALUE=URI:https://www.norwood.k12.ma.us/cms/calendar/6689001/no-school-
 spring-vacation
DTSTART:20250421T124500Z
DTEND:20250425T192000Z
END:VEVENT
END:VCALENDAR
