BEGIN:VCALENDAR
VERSION:2.0
PRODID:SchoolNow
CALSCALE:GREGORIAN
BEGIN:VEVENT
UID:845a29f0-84c3-11ef-9999-0affe2e1517b
DTSTAMP:20241007T154754Z
SUMMARY:6th Grade Winter Concert
LOCATION:Auditorium
URL;VALUE=URI:https://www.norwood.k12.ma.us/cms/calendar/6776651/6th-grade-
 winter-concert
DTSTART:20250108T000000Z
DTEND:20250108T013000Z
END:VEVENT
END:VCALENDAR
