BEGIN:VCALENDAR
VERSION:2.0
PRODID:SchoolNow
CALSCALE:GREGORIAN
BEGIN:VEVENT
UID:b39cd7d0-84c3-11ef-80fe-0affd9764f13
DTSTAMP:20241007T154913Z
SUMMARY:7th and 8th Grade Winter Concert
LOCATION:Auditorium
URL;VALUE=URI:https://www.norwood.k12.ma.us/cms/calendar/6776652/7th-and-8t
 h-grade-winter-concert
DTSTART:20250110T000000Z
DTEND:20250110T013000Z
END:VEVENT
END:VCALENDAR
