BEGIN:VCALENDAR
VERSION:2.0
PRODID:SchoolNow
CALSCALE:GREGORIAN
BEGIN:VEVENT
UID:dde2c45a-84c3-11ef-af1f-0259bfead9b7
DTSTAMP:20241007T155024Z
SUMMARY:7th and 8th Grade Spring Concert
LOCATION:Auditorium
URL;VALUE=URI:https://www.norwood.k12.ma.us/cms/calendar/6776653/7th-and-8t
 h-grade-spring-concert
DTSTART:20250515T230000Z
DTEND:20250516T003000Z
END:VEVENT
END:VCALENDAR
