BEGIN:VCALENDAR
VERSION:2.0
PRODID:SchoolNow
CALSCALE:GREGORIAN
BEGIN:VEVENT
UID:03bbea08-84c4-11ef-97b3-029e8001135d
DTSTAMP:20241022T151430Z
SUMMARY:6th Grade Spring Concert
LOCATION:Auditorium
URL;VALUE=URI:https://www.norwood.k12.ma.us/cms/calendar/6776654/6th-grade-
 spring-concert
DTSTART:20250528T230000Z
DTEND:20250529T003000Z
END:VEVENT
END:VCALENDAR
