BEGIN:VCALENDAR
VERSION:2.0
PRODID:SchoolNow
CALSCALE:GREGORIAN
BEGIN:VEVENT
UID:598e953a-c9f6-11ef-970c-0a58a9feac02
DTSTAMP:20250103T171537Z
SUMMARY:8th Grade Dance
URL;VALUE=URI:https://www.norwood.k12.ma.us/cms/calendar/7262889/8th-grade-
 dance
DTSTART:20250228T230000Z
DTEND:20250301T013000Z
END:VEVENT
END:VCALENDAR
