BEGIN:VCALENDAR
VERSION:2.0
PRODID:SchoolNow
CALSCALE:GREGORIAN
BEGIN:VEVENT
UID:9c0d4400-c9fc-11ef-ac8e-0217c0a06f73
DTSTAMP:20250103T180025Z
SUMMARY:8th Grade Dance
URL;VALUE=URI:https://www.norwood.k12.ma.us/cms/calendar/7262894/8th-grade-
 dance
DTSTART:20250606T220000Z
DTEND:20250607T003000Z
END:VEVENT
END:VCALENDAR
