BEGIN:VCALENDAR
VERSION:2.0
PRODID:SchoolNow
CALSCALE:GREGORIAN
BEGIN:VEVENT
UID:a13841f4-cdf9-11ef-b128-0a58a9feac02
DTSTAMP:20250108T194910Z
SUMMARY:Early Release 1/2 Day Professional Development
URL;VALUE=URI:https://www.norwood.k12.ma.us/cms/calendar/7286954/early-rele
 ase-1-2-day-professional-development
DTSTART:20250516T163000Z
DTEND:20250516T192000Z
END:VEVENT
END:VCALENDAR
