BEGIN:VCALENDAR
VERSION:2.0
PRODID:SchoolNow
CALSCALE:GREGORIAN
BEGIN:VEVENT
UID:186e4c8c-cdfa-11ef-9aaf-0a58a9feac02
DTSTAMP:20250108T195230Z
SUMMARY:Memorial Day - No School
URL;VALUE=URI:https://www.norwood.k12.ma.us/cms/calendar/7286955/memorial-d
 ay-no-school
DTSTART:20250526T124500Z
DTEND:20250526T192000Z
END:VEVENT
END:VCALENDAR
