BEGIN:VCALENDAR
VERSION:2.0
PRODID:SchoolNow
CALSCALE:GREGORIAN
BEGIN:VEVENT
UID:617fff10-cdfa-11ef-b62c-0a58a9feac02
DTSTAMP:20250108T195433Z
SUMMARY:Early Release 1/2 Day - 180th Day
URL;VALUE=URI:https://www.norwood.k12.ma.us/cms/calendar/7286956/early-rele
 ase-1-2-day-180th-day
DTSTART:20250618T163000Z
DTEND:20250618T192000Z
END:VEVENT
END:VCALENDAR
