BEGIN:VCALENDAR
VERSION:2.0
PRODID:SchoolNow
CALSCALE:GREGORIAN
BEGIN:VEVENT
UID:bf3844c8-cdfa-11ef-a08c-0e175e100115
DTSTAMP:20250108T195710Z
SUMMARY:8th Grade DC Trip
URL;VALUE=URI:https://www.norwood.k12.ma.us/cms/calendar/7286957/8th-grade-
 dc-trip
DTSTART:20250527T124500Z
DTEND:20250530T192000Z
END:VEVENT
END:VCALENDAR
