BEGIN:VCALENDAR
VERSION:2.0
PRODID:SchoolNow
CALSCALE:GREGORIAN
BEGIN:VEVENT
UID:31e55a1a-cdfb-11ef-bd74-026345ee7965
DTSTAMP:20250321T183748Z
SUMMARY:8th Grade Canobie Lake Trip
URL;VALUE=URI:https://www.norwood.k12.ma.us/cms/calendar/7286958/8th-grade-
 canobie-lake-trip-tentative
DTSTART:20250611T124500Z
DTEND:20250611T192000Z
END:VEVENT
END:VCALENDAR
