BEGIN:VCALENDAR
VERSION:2.0
PRODID:SchoolNow
CALSCALE:GREGORIAN
BEGIN:VEVENT
UID:e23f0816-cdfb-11ef-958e-0a58a9feac02
DTSTAMP:20250108T200518Z
SUMMARY:Last Day of School  (If no snow days)
URL;VALUE=URI:https://www.norwood.k12.ma.us/cms/calendar/7286960/last-day-o
 f-school-if-no-snow-days
DTSTART:20250618T124500Z
DTEND:20250619T163000Z
END:VEVENT
END:VCALENDAR
