BEGIN:VCALENDAR
VERSION:2.0
PRODID:SchoolNow
CALSCALE:GREGORIAN
BEGIN:VEVENT
UID:5c496c3c-dced-11ef-ad88-0affca5437bb
DTSTAMP:20250312T195152Z
SUMMARY:CMS Musical at NHS
URL;VALUE=URI:https://www.norwood.k12.ma.us/cms/calendar/7382101/cms-musica
 l-at-nhs
DTSTART:20250605T230000Z
DTEND:20250606T010000Z
END:VEVENT
END:VCALENDAR
