BEGIN:VCALENDAR
VERSION:2.0
PRODID:SchoolNow
CALSCALE:GREGORIAN
BEGIN:VEVENT
UID:7e7a47a4-dced-11ef-9af5-0afff70ea491
DTSTAMP:20250127T203005Z
SUMMARY:CMS Musical at NHS
URL;VALUE=URI:https://www.norwood.k12.ma.us/cms/calendar/7382102/cms-musica
 l-at-nhs
DTSTART:20250607T230000Z
DTEND:20250608T010000Z
END:VEVENT
END:VCALENDAR
