BEGIN:VCALENDAR
VERSION:2.0
PRODID:SchoolNow
CALSCALE:GREGORIAN
BEGIN:VEVENT
UID:dfab48d4-dced-11ef-b5b5-0a58a9feac02
DTSTAMP:20250127T203248Z
SUMMARY:CMS Musical
URL;VALUE=URI:https://www.norwood.k12.ma.us/cms/calendar/7382236/cms-musica
 l
DTSTART:20250608T180000Z
DTEND:20250608T200000Z
END:VEVENT
END:VCALENDAR
