BEGIN:VCALENDAR
VERSION:2.0
PRODID:SchoolNow
CALSCALE:GREGORIAN
BEGIN:VEVENT
UID:34c9918e-04fa-11f0-b852-0e27cce2baff
DTSTAMP:20250319T194152Z
SUMMARY:Honors Festival Field Trip
URL;VALUE=URI:https://www.norwood.k12.ma.us/cms/calendar/7725213/honors-fes
 tival-field-trip
DTSTART:20250411T124500Z
DTEND:20250411T192000Z
END:VEVENT
END:VCALENDAR
