BEGIN:VCALENDAR
VERSION:2.0
PRODID:SchoolNow
CALSCALE:GREGORIAN
BEGIN:VEVENT
UID:64540024-059f-11f0-8963-0a58a9feac02
DTSTAMP:20250429T123424Z
SUMMARY:Ron Burton Training Village - 8th Grade
LOCATION:71 High Bridge Road\, Hubbardston\, MA  01452
URL;VALUE=URI:https://www.norwood.k12.ma.us/cms/calendar/7731656/ron-hubbar
 d-training-village-8th-grade
DTSTART:20250519T120000Z
DTEND:20250519T200000Z
END:VEVENT
END:VCALENDAR
