BEGIN:VCALENDAR
VERSION:2.0
PRODID:SchoolNow
CALSCALE:GREGORIAN
BEGIN:VEVENT
UID:8f719c12-059f-11f0-806e-0a58a9feac02
DTSTAMP:20250429T123436Z
SUMMARY:Ron Burton Training Village - Grade 8
LOCATION:71 High Bridge Road\, Hubbardston\, MA  01452
URL;VALUE=URI:https://www.norwood.k12.ma.us/cms/calendar/7731657/ron-hubbar
 d-training-village-grade-8
DTSTART:20250520T120000Z
DTEND:20250520T200000Z
END:VEVENT
END:VCALENDAR
