BEGIN:VCALENDAR
VERSION:2.0
PRODID:SchoolNow
CALSCALE:GREGORIAN
BEGIN:VEVENT
UID:e42d90e4-059f-11f0-94ec-0a58a9feac02
DTSTAMP:20250429T123459Z
SUMMARY:Ron Burton Training Village - 6th Grade
LOCATION:71 High Bridge Road\, Hubbardston\, MA  01452
URL;VALUE=URI:https://www.norwood.k12.ma.us/cms/calendar/7731659/ron-hubbar
 d-training-village-6th-grade
DTSTART:20250523T120000Z
DTEND:20250523T190000Z
END:VEVENT
END:VCALENDAR
