BEGIN:VCALENDAR
VERSION:2.0
PRODID:SchoolNow
CALSCALE:GREGORIAN
BEGIN:VEVENT
UID:74407634-0671-11f0-81f6-0a58a9feac02
DTSTAMP:20250321T162759Z
SUMMARY:National Junior Honor Society Induction Ceremony
LOCATION:CMS Auditorium
URL;VALUE=URI:https://www.norwood.k12.ma.us/cms/calendar/7739935/national-j
 unior-honor-society-induction-ceremony
DTSTART:20250410T223000Z
DTEND:20250411T000000Z
END:VEVENT
END:VCALENDAR
