BEGIN:VCALENDAR
VERSION:2.0
PRODID:SchoolNow
CALSCALE:GREGORIAN
BEGIN:VEVENT
UID:801af0c8-0672-11f0-b768-0affd589688f
DTSTAMP:20250415T150251Z
SUMMARY:Open House for Grades 4 and 5 Parents at CMS
URL;VALUE=URI:https://www.norwood.k12.ma.us/cms/calendar/7739936/open-house
 -for-grades-4-and-5-parents-at-cms
DTSTART:20250507T220000Z
DTEND:20250507T230000Z
END:VEVENT
END:VCALENDAR
