BEGIN:VCALENDAR
VERSION:2.0
PRODID:SchoolNow
CALSCALE:GREGORIAN
BEGIN:VEVENT
UID:50dd705a-0682-11f0-abb8-0a58a9feac02
DTSTAMP:20250321T182842Z
SUMMARY:8th Grade Step-Up Day at NHS
LOCATION:NHS
URL;VALUE=URI:https://www.norwood.k12.ma.us/cms/calendar/7739949/8th-grade-
 step-up-day-at-nhs
DTSTART:20250609T130000Z
DTEND:20250609T160000Z
END:VEVENT
END:VCALENDAR
