BEGIN:VCALENDAR
VERSION:2.0
PRODID:SchoolNow
CALSCALE:GREGORIAN
BEGIN:VEVENT
UID:7b29b0a0-2c28-11f0-8973-0e3f80a2c7fb
DTSTAMP:20250508T162122Z
SUMMARY:8th Grade Promotion
URL;VALUE=URI:https://www.norwood.k12.ma.us/cms/calendar/8090600/8th-grade-
 promotion
DTSTART:20250613T133000Z
DTEND:20250613T160000Z
END:VEVENT
END:VCALENDAR
