BEGIN:VCALENDAR
VERSION:2.0
PRODID:SchoolNow
CALSCALE:GREGORIAN
BEGIN:VEVENT
UID:41af762e-3034-11f0-9d83-0affc6c85c03
DTSTAMP:20250820T123156Z
SUMMARY:Grade 5 Orientation
LOCATION:Coakley Middle School
URL;VALUE=URI:https://www.norwood.k12.ma.us/cms/calendar/8130188/grade-5-or
 ientation
DTSTART:20250820T133000Z
DTEND:20250820T150000Z
END:VEVENT
END:VCALENDAR
