BEGIN:VCALENDAR
VERSION:2.0
PRODID:SchoolNow
CALSCALE:GREGORIAN
BEGIN:VEVENT
UID:64cc8e9e-3034-11f0-8f32-0a58a9feac02
DTSTAMP:20250820T123242Z
SUMMARY:Grade 6 Orientation
LOCATION:Coakley Middle School
URL;VALUE=URI:https://www.norwood.k12.ma.us/cms/calendar/8130189/grade-6-or
 ientation
DTSTART:20250821T133000Z
DTEND:20250821T150000Z
END:VEVENT
END:VCALENDAR
