BEGIN:VCALENDAR
VERSION:2.0
PRODID:SchoolNow
CALSCALE:GREGORIAN
BEGIN:VEVENT
UID:8a5a05ec-3034-11f0-a13e-0a58a9feac02
DTSTAMP:20250513T195746Z
SUMMARY:Grade 7 Open House
LOCATION:Coakley Middle School
URL;VALUE=URI:https://www.norwood.k12.ma.us/cms/calendar/8130190/grade-7-op
 en-house
DTSTART:20250825T193000Z
DTEND:20250825T210000Z
END:VEVENT
END:VCALENDAR
