BEGIN:VCALENDAR
VERSION:2.0
PRODID:SchoolNow
CALSCALE:GREGORIAN
BEGIN:VEVENT
UID:ab3bd984-3034-11f0-b73f-0a58a9feac02
DTSTAMP:20250513T195841Z
SUMMARY:Grade 8 Open House
LOCATION:Coakley Middle School
URL;VALUE=URI:https://www.norwood.k12.ma.us/cms/calendar/8130191/grade-8-op
 en-house
DTSTART:20250826T193000Z
DTEND:20250826T210000Z
END:VEVENT
END:VCALENDAR
