BEGIN:VCALENDAR
VERSION:2.0
PRODID:SchoolNow
CALSCALE:GREGORIAN
BEGIN:VEVENT
UID:ba88a3b4-5121-11f0-88fb-0a58a9feac02
DTSTAMP:20250624T173615Z
SUMMARY:Professional Development - Early Release 12:30 PM
URL;VALUE=URI:https://www.norwood.k12.ma.us/cms/calendar/8349102/profession
 al-development-early-release-12-30-pm
DTSTART:20250918T170000Z
DTEND:20250918T192000Z
END:VEVENT
END:VCALENDAR
