BEGIN:VCALENDAR
VERSION:2.0
PRODID:SchoolNow
CALSCALE:GREGORIAN
BEGIN:VEVENT
UID:16354dd4-5122-11f0-a137-0a58a9feac02
DTSTAMP:20250624T173849Z
SUMMARY:Professional Development - Early Release 12:30 PM
URL;VALUE=URI:https://www.norwood.k12.ma.us/cms/calendar/8349104/profession
 al-development-early-release-12-30-pm
DTSTART:20251021T170000Z
DTEND:20251021T192000Z
END:VEVENT
END:VCALENDAR
