BEGIN:VCALENDAR
VERSION:2.0
PRODID:SchoolNow
CALSCALE:GREGORIAN
BEGIN:VEVENT
UID:4a66166a-5122-11f0-bb6a-0a58a9feac02
DTSTAMP:20250624T174016Z
SUMMARY:Full Day Professional Development - No School
URL;VALUE=URI:https://www.norwood.k12.ma.us/cms/calendar/8349105/full-day-p
 rofessional-development-no-school
DTSTART:20251104T134500Z
DTEND:20251104T202000Z
END:VEVENT
END:VCALENDAR
