BEGIN:VCALENDAR
VERSION:2.0
PRODID:SchoolNow
CALSCALE:GREGORIAN
BEGIN:VEVENT
UID:7431082e-5122-11f0-8335-0a58a9feac02
DTSTAMP:20250624T174126Z
SUMMARY:Veteran's Day Holiday - No School
URL;VALUE=URI:https://www.norwood.k12.ma.us/cms/calendar/8349106/veterans-d
 ay-holiday-no-school
DTSTART:20251111T134500Z
DTEND:20251111T202000Z
END:VEVENT
END:VCALENDAR
