BEGIN:VCALENDAR
VERSION:2.0
PRODID:SchoolNow
CALSCALE:GREGORIAN
BEGIN:VEVENT
UID:b08bade2-5122-11f0-9bf2-0a58a9feac02
DTSTAMP:20250624T174308Z
SUMMARY:Parent/Teacher Conferences
URL;VALUE=URI:https://www.norwood.k12.ma.us/cms/calendar/8349107/parent-tea
 cher-conferences
DTSTART:20251113T230000Z
DTEND:20251114T010000Z
END:VEVENT
END:VCALENDAR
