BEGIN:VCALENDAR
VERSION:2.0
PRODID:SchoolNow
CALSCALE:GREGORIAN
BEGIN:VEVENT
UID:d119ffdc-5122-11f0-a798-0a58a9feac02
DTSTAMP:20250624T174402Z
SUMMARY:CMS Retake Picture Day
URL;VALUE=URI:https://www.norwood.k12.ma.us/cms/calendar/8349108/cms-retake
 -picture-day
DTSTART:20251118T134500Z
DTEND:20251118T190000Z
END:VEVENT
END:VCALENDAR
