BEGIN:VCALENDAR
VERSION:2.0
PRODID:SchoolNow
CALSCALE:GREGORIAN
BEGIN:VEVENT
UID:fa18d6b0-5122-11f0-a1c5-0a58a9feac02
DTSTAMP:20251031T152710Z
SUMMARY:Early Dismissal at 12:30 PM - Parent/Teacher Conferences
URL;VALUE=URI:https://www.norwood.k12.ma.us/cms/calendar/8349109/early-dism
 issal-at-12-30-pm-parent-teacher-conferences
DTSTART:20251120T180000Z
DTEND:20251120T204000Z
END:VEVENT
END:VCALENDAR
