BEGIN:VCALENDAR
VERSION:2.0
PRODID:SchoolNow
CALSCALE:GREGORIAN
BEGIN:VEVENT
UID:1107612a-5123-11f0-b29b-029333af7875
DTSTAMP:20250624T174549Z
SUMMARY:Parent/Teacher Conferences
URL;VALUE=URI:https://www.norwood.k12.ma.us/cms/calendar/8349110/parent-tea
 cher-conferences
DTSTART:20251120T230000Z
DTEND:20251121T010000Z
END:VEVENT
END:VCALENDAR
