BEGIN:VCALENDAR
VERSION:2.0
PRODID:SchoolNow
CALSCALE:GREGORIAN
BEGIN:VEVENT
UID:31e61576-5123-11f0-aa4d-0a58a9feac02
DTSTAMP:20250624T181559Z
SUMMARY:Early Release at 12:30 PM
URL;VALUE=URI:https://www.norwood.k12.ma.us/cms/calendar/8349111/eary-relea
 se-at-12-30-pm
DTSTART:20251126T173000Z
DTEND:20251126T202000Z
END:VEVENT
END:VCALENDAR
