BEGIN:VCALENDAR
VERSION:2.0
PRODID:SchoolNow
CALSCALE:GREGORIAN
BEGIN:VEVENT
UID:505dfce4-5123-11f0-81ca-0a58a9feac02
DTSTAMP:20250624T174736Z
SUMMARY:No School - Thanksgiving Day
URL;VALUE=URI:https://www.norwood.k12.ma.us/cms/calendar/8349112/no-school-
 thanksgiving-day
DTSTART:20251127T134500Z
DTEND:20251127T202000Z
END:VEVENT
END:VCALENDAR
