BEGIN:VCALENDAR
VERSION:2.0
PRODID:SchoolNow
CALSCALE:GREGORIAN
BEGIN:VEVENT
UID:6d564e28-5123-11f0-9751-0203e6c8d72f
DTSTAMP:20250624T174824Z
SUMMARY:No School - Thanksgiving
URL;VALUE=URI:https://www.norwood.k12.ma.us/cms/calendar/8349113/no-school-
 thanksgiving
DTSTART:20251128T134500Z
DTEND:20251128T202000Z
END:VEVENT
END:VCALENDAR
