BEGIN:VCALENDAR
VERSION:2.0
PRODID:SchoolNow
CALSCALE:GREGORIAN
BEGIN:VEVENT
UID:a6766558-5123-11f0-aa7f-0a58a9feac02
DTSTAMP:20250624T175000Z
SUMMARY:Professional Development - Early Release at 12:30 PM
URL;VALUE=URI:https://www.norwood.k12.ma.us/cms/calendar/8349114/profession
 al-development-early-release-at-12-30-pm
DTSTART:20251209T173000Z
DTEND:20251209T202000Z
END:VEVENT
END:VCALENDAR
