BEGIN:VCALENDAR
VERSION:2.0
PRODID:SchoolNow
CALSCALE:GREGORIAN
BEGIN:VEVENT
UID:c984c904-5123-11f0-839f-0a58a9feac02
DTSTAMP:20250624T175059Z
SUMMARY:Early Release at 12:30 PM
URL;VALUE=URI:https://www.norwood.k12.ma.us/cms/calendar/8349115/early-rele
 ase-at-12-30-pm
DTSTART:20251223T173000Z
DTEND:20251223T202000Z
END:VEVENT
END:VCALENDAR
