BEGIN:VCALENDAR
VERSION:2.0
PRODID:SchoolNow
CALSCALE:GREGORIAN
BEGIN:VEVENT
UID:fba96ca0-5123-11f0-82d8-0a58a9feac02
DTSTAMP:20250624T175223Z
SUMMARY:Winter Break
URL;VALUE=URI:https://www.norwood.k12.ma.us/cms/calendar/8349116/winter-bre
 ak
DTSTART:20251224T134500Z
DTEND:20260102T202000Z
END:VEVENT
END:VCALENDAR
