BEGIN:VCALENDAR
VERSION:2.0
PRODID:SchoolNow
CALSCALE:GREGORIAN
BEGIN:VEVENT
UID:39c1c640-5124-11f0-810f-0a58a9feac02
DTSTAMP:20250624T175407Z
SUMMARY:Professional Development - Early Release 12:30 PM
URL;VALUE=URI:https://www.norwood.k12.ma.us/cms/calendar/8349117/profession
 al-development-early-release-12-30-pm
DTSTART:20260115T173000Z
DTEND:20260115T202000Z
END:VEVENT
END:VCALENDAR
