BEGIN:VCALENDAR
VERSION:2.0
PRODID:SchoolNow
CALSCALE:GREGORIAN
BEGIN:VEVENT
UID:5ee7d0ea-5124-11f0-8221-0afff5318a25
DTSTAMP:20250624T175510Z
SUMMARY:No School - Martin Luther King\, Jr. Holiday
URL;VALUE=URI:https://www.norwood.k12.ma.us/cms/calendar/8349118/no-school-
 martin-luther-king-jr-holiday
DTSTART:20260119T134500Z
DTEND:20260119T202000Z
END:VEVENT
END:VCALENDAR
