BEGIN:VCALENDAR
VERSION:2.0
PRODID:SchoolNow
CALSCALE:GREGORIAN
BEGIN:VEVENT
UID:83dd09d8-5124-11f0-a032-0a58a9feac02
DTSTAMP:20250624T175612Z
SUMMARY:Professional Development - Early Release 12:30 PM
URL;VALUE=URI:https://www.norwood.k12.ma.us/cms/calendar/8349119/profession
 al-development-early-release-12-30-pm
DTSTART:20260210T134500Z
DTEND:20260210T202000Z
END:VEVENT
END:VCALENDAR
