BEGIN:VCALENDAR
VERSION:2.0
PRODID:SchoolNow
CALSCALE:GREGORIAN
BEGIN:VEVENT
UID:b2349170-5124-11f0-91b5-0a58a9feac02
DTSTAMP:20250624T175729Z
SUMMARY:February Vacation
URL;VALUE=URI:https://www.norwood.k12.ma.us/cms/calendar/8349120/february-v
 acation
DTSTART:20260216T134500Z
DTEND:20260220T202000Z
END:VEVENT
END:VCALENDAR
