BEGIN:VCALENDAR
VERSION:2.0
PRODID:SchoolNow
CALSCALE:GREGORIAN
BEGIN:VEVENT
UID:e0878366-5124-11f0-b458-0a58a9feac02
DTSTAMP:20250624T175847Z
SUMMARY:Professional Development - Early Release 12:30 PM
URL;VALUE=URI:https://www.norwood.k12.ma.us/cms/calendar/8349121/profession
 al-development-early-release-12-30-pm
DTSTART:20260319T163000Z
DTEND:20260319T192000Z
END:VEVENT
END:VCALENDAR
