BEGIN:VCALENDAR
VERSION:2.0
PRODID:SchoolNow
CALSCALE:GREGORIAN
BEGIN:VEVENT
UID:2dab998e-5125-11f0-bf6d-0eb6f8fd2a6d
DTSTAMP:20250624T180057Z
SUMMARY:Professional Development - Early Release 12:30 PM
URL;VALUE=URI:https://www.norwood.k12.ma.us/cms/calendar/8349122/profession
 al-development-early-release-12-30-pm
DTSTART:20260406T163000Z
DTEND:20260406T192000Z
END:VEVENT
END:VCALENDAR
